BEGIN:VCALENDAR
VERSION:2.0
PRODID:-//PYVOBJECT//NONSGML Version 0.9.9//EN
X-WR-TIMEZONE:Africa/Johannesburg
BEGIN:VTIMEZONE
TZID:Africa/Johannesburg
BEGIN:STANDARD
DTSTART:20000101T000000
RRULE:FREQ=YEARLY;BYMONTH=1
TZNAME:SAST
TZOFFSETFROM:+0200
TZOFFSETTO:+0200
END:STANDARD
END:VTIMEZONE
BEGIN:VEVENT
UID:20260420T162024Z - 23620@eos-content
DTSTART;TZID=Africa/Johannesburg:20260425T100000
DTEND;TZID=Africa/Johannesburg:20260425T120000
ATTENDEE:MAILTO:maxine@shelley.co.za
ATTENDEE:MAILTO:lauren@shelley.co.za
DESCRIPTION:https://www.shelley.co.za/results/residential/for-sale/durban/s
 herwood/townhouse/3145192/unit-8-penny-lane-30-summit-dr/\n\nOn Show by ap
 pointment only. Call Maxine Wardthen on 071 212 8462 to book an exclusive 
 viewing.\n\nMaxine Wardthen (071 212 8462)\n\nLauren Lawson (079 046 1441)
DTSTAMP:20260420T162024Z
LOCATION:Unit 8 Penny Lane\, 30 Summit Dr\, Sherwood\, Durban
SUMMARY:Shelley Residential Show Day - SR910
END:VEVENT
END:VCALENDAR
